Workbook

Sheet Cover
B2: Project name:
B3: Application reference number (If applicable):
B4: Lead implementer (organisation) name:
B5: Local currency used for project costs:
B6: GBP exchange rate used in budget:

Sheet 1.Eligible costs guidance
B2: Direct Costs Range Guidance and Evidence Requirements
B4: Important: Budgets, including day rates, will be assessed as part of the recruitment process. Day rates should be in line with local market rates and should also provide value for money. The suggested price ranges for personnel provided below include a cap for the maximum cost of day rates we will accept. Please bear in mind that this is ODA funding so value for money will be subject to high levels of scrutiny. Prices must reflect the accurate costs of delivering particular outputs or activities and costs must be able to be evidenced and justified.
B6: Cost Category | C6: Indicative Cost Range | D6: Note | G6: Types of evidence that should be retained
B8: Luxury Goods (including Alcohol and Tobacco) | C8: N/A | D8: The UK PACT Country Funds do not support this category. If the project needs to purchase items in this category, please seek funding from other sources. | G8: N/A
B9: Desktops, laptops, printers, scanners, cameras, etc | C9: N/A | D9: The UK PACT Country Funds do not support this category. If the project needs to purchase items in this category, please seek funding from other sources. | G9: N/A
B11: Office rental | C11: N/A | D11: The UK PACT Country Funds do not support this category. If the project needs to purchase items in this category, please seek funding from other sources. This cost is eligible as an overhead. | G11: N/A
B13: Salaries (excluding labour charged by day rate – please see below) | C13: N/A | D13: The UK PACT Country Funds do not support this category. If the project needs to purchase items in this category, please seek funding from other sources. | G13: N/A
B15: Communications costs | C15: N/A | D15: Communications and branding costs count as Direct Project Costs and therefore should be included in budget. Eligible costs are limited to expenses that are directly related to disseminating project outputs. Broader organisational marketing or promotion expenses are not eligible for UK PACT funding. | G15: N/A
B16: Digital Spend | C16: N/A | D16: Costs related to any external-facing services provided through the internet to citizens, businesses, civil society, non-government organisations or government counterparts (including but not limited to: websites, knowledge hubs, mobile apps, mapping tools, data platforms) can be eligible in some circumstances but must receive specific approval from UK PACT | G16: Itemised receipt or invoice from vendor
B17: Expert salaries | C17: Dependant on local market rate | D17: Expert salaries should always be in line with local market rates. The level of pay across the project team should reflect the nature of work and seniority of implementers. All rates must be based on the cost of employing that specific individual on the project. UK PACT may carry our own benchmarking to ensure the rates proposed represent Value for Money. | G17: Timesheet
B20: The person day consultancy cost shall be based on accumulative basis. For example, if the person spends 2 hours a day for project and rest of 6 hours on non-project work, the total cost for 4 working days shall be calculated in the budget as 1 person day (counting 8 working hours as 1 full working day).
B21: Accommodation and subsistence per person/day. | C21: Hotel: Market rate - Maximum £120 Meals: Market rate - Maximum £30 | D21: Prices are the maximum allowed to spend per day, per person. But costs should reflect the market rate. Note that meals include: breakfast, lunch and dinner. Taxis from/to airport/hotel and from/to hotel/project event, can be reimbursed with evidence of need. Costs are expected to be reasonable and accurate | G21: Original itemised receipt provided by the vendor or customer’s copy of charge/credit card slip
B23: International return flights | C23: All need to take economy class for both domestic and international flights. | G23: Original itemised receipt provided by the vendor, or a credit card statement if a receipt is not available and an itemised receipt is not required, or a passenger invoice/itinerary
B25: Domestic return flights
B26: Event venue cost per person/Day | C26: Market rate. Cost may vary, but evidence on Value for money should be provided. (e.g. requesting 3 quotes) | D26: This should be the baseline standard that includes: 1 meeting conference room for 8 hours; 1 buffet lunch; 2 coffee/snack breaks; basic audio-visual equipment; pen, writing pads, and iced water etc. | G26: Payment receipt along with the conference agenda showing the cost breakdowns (including receipts where applicable), topic of discussion and proof of payment
B27: Consecutive and simultaneous interpretation | C27: Market rate - Maximum £325 | D27: This applies to interpretation carried out within the target country and internationally for one full working day | G27: Timesheet or Invoice of services
B28: Translation
B29: Print fees | C29: Market rate | G29: Itemised receipt from vendor
B30: Other | C30: If you select "other" under cost category, please provide a description of the costs relevance to the project. | G30: Relevant evidence, dependent on cost type
B33: Permanent
B34: Fixed term
B35: Sub-contractor
B38: National (Personnel based in country where project is being delivered)
B39: International (Personnel based outside country where project is being delivered)

Sheet Budget Guidance
B2: Output-Based Budget - Guidance
C4: Key
D5: Requires input (if applicable)
B6: DO NOT EDIT | D6: Auto-populated. Quarterly totals. Grant claims will be made on a quarterly basis and will correspond to these values
B7: DO NOT EDIT | D7: No input required
B8: DO NOT EDIT | D8: Auto-populated, inputs valid
B9: DO NOT EDIT | D9: Auto-populated, inputs not valid
B11: Please read the below overview before completing the budget sheet
B13: 1. Budget Sheet Overview
B74: 2. Output Detail: How to enter the budget

Sheet Workplan
A2: Workplan
A4: GRANT WORKPLAN AND MILESTONES | E4: Financial Year 2026-2027 | Q4: Financial Year 2027- 2028
A7: Outputs and other workstreams List the individual outputs that you plan to deliver as you have listed in your Proposal and Project ToC form. In addition to these, you should make sure you incorporate workstreams related to project management, monitoring evaluation and learning, communications and gender, equality and social inclusion. | B7: Activities and milestones linked to achievement of output List the activities that you will carry out in order to achieve each output, for example all of the activities that will lead up to the delivery of an individual training or a specific report, and highlight when a milestone is delivered. | C7: Deliverables/evidences linked to each activity List the deliverables or evidences that you will submit for each proposed activity. | D7: Delivery Partner responsible for activity | E7: Q1 | H7: Q2 | K7: Q3 | N7: Q4 | Q7: Q1 | R7: Q2 | S7: Q3 | T7: Q4
E8: 45748 | F8: 45778 | G8: 45809 | H8: 45839 | I8: 45870 | J8: 45901 | K8: 45931 | L8: 45962 | M8: 45992 | N8: 46023 | O8: 46054 | P8: 46082
A11: Output 1. | B11: 1.1 | C11: 1.1 | F11: X | G11: O
B12: 1.2 | C12: 1.2
B13: 1.3 | C13: 1.3
B14: 1.4 | C14: 1.4 | E14: X | F14: M
B15: 1.5 | C15: 1.5 | F15: X
A16: Output 2. | B16: 2.1 | C16: 2.1
B17: 2.2 | C17: 2.2
B18: 2.3 | C18: 2.3
B19: 2.4 | C19: 2.4
B20: 2.5 | C20: 2.5
A21: Output 3. | B21: 3.1 | C21: 3.1
B22: 3.2 | C22: 3.2
B23: 3.3 | C23: 3.3
B24: 3.4 | C24: 3.4
B25: 3.5 | C25: 3.5
A26: Output 4. | B26: 4.1 | C26: 4.1
B27: 4.2 | C27: 4.2
B28: 4.3 | C28: 4.3
B29: 4.4 | C29: 4.4
B30: 4.5 | C30: 4.5
B31: 4.6 | C31: 4.6
A32: Output 5. | B32: 5.1 | C32: 5.1
B33: 5.2 | C33: 5.2
B34: 5.3 | C34: 5.3
B35: 5.4 | C35: 5.4
B36: 5.5 | C36: 5.5
A37: Project Management activities (Inputs that don't directly relate specifically to one output)

Sheet Budget Sheet
I4: Project Title: | K4: =Cover!C2 -> 0
B5: Please note, payment will be made in arrears
B6: Project output Should directly reflect Proposal and ToR | C6: Output Title Take directly from Proposal and ToR. Every output should be costed | D6: Cost Categories Please refer to the "budget guidance" tab and when filling in the template. Add extra rows as necessary. Every "Other" expense should be justified in the "Other-justification" tab | E6: Name of personnel Only required when you have selected "Personnel" in Column E. Should match name on "Staff list" tab | F6: Country For International Travel, state origin and destination. For all other expenses, state the country where the cost is occurring | G6: Organisation Please indicate whether the cost relates to the lead organisation, or to a consortium partner or sub-contractor (specify name of organisation in each case) | H6: Sub-category For "personnel", select from drop-down menu. For "Other", specify cost type No input required for all other cost categories | I6: Output Total | M6: Q1 Financial year 26/27 | Q6: Q2 Financial year 26/27 | U6: Q3 Financial year 26/27 | Y6: Q4 Financial year 26/27 | AC6: FY 26/27 Total Cost | AD6: Q1 FY 27/28 | AE6: Q2 FY 27/28 | AF6: Q3 FY 27/28 | AG6: Q4 FY 27/28 | AH6: FY 27/28 Total Cost
I7: Cost per unit (GBP) | J7: No. people / items | K7: No. days | L7: Total | M7: Apr '26 | N7: May '26 | O7: Jun '26 | P7: Q1 Total Cost | Q7: Jul '26 | R7: Aug '26 | S7: Sep '26 | T7: Q2 Total Cost | U7: Oct '26 | V7: Nov '26 | W7: Dec '26 | X7: Q3 Total Cost | Y7: Jan '27 | Z7: Feb '27 | AA7: Mar '27 | AB7: Q4 Total Cost
B8: Output 1. | C8: . | D8: Personnel | E8: Example | H8: Principal expert | L8: =I8*J8*K8 -> 0 | P8: =M8+N8+O8 -> 0 | T8: =Q8+R8+S8 -> 0 | X8: =U8+V8+W8 -> 0 | AB8: =Y8+Z8+AA8 -> 0 | AC8: =SUM(P8,T8,X8,AB8) -> 0 | AH8: =AD8+AE8+AF8+AG8 -> 0
D9: Personnel | E9: Example | H9: Principal expert | L9: =I9*J9*K9 -> 0 | P9: =M9+N9+O9 -> 0 | T9: =Q9+R9+S9 -> 0 | X9: =U9+V9+W9 -> 0 | AB9: =Y9+Z9+AA9 -> 0 | AC9: =SUM(P9,T9,X9,AB9) -> 0 | AH9: =AD9+AE9+AF9+AG9 -> 0
D10: Personnel | E10: Example | H10: Junior expert | L10: =I10*J10*K10 -> 0 | P10: =M10+N10+O10 -> 0 | T10: =Q10+R10+S10 -> 0 | X10: =U10+V10+W10 -> 0 | AB10: =Y10+Z10+AA10 -> 0 | AC10: =SUM(P10,T10,X10,AB10) -> 0 | AH10: =AD10+AE10+AF10+AG10 -> 0
D11: Personnel | E11: Example | H11: Expert | L11: =I11*J11*K11 -> 0 | P11: =M11+N11+O11 -> 0 | T11: =Q11+R11+S11 -> 0 | X11: =U11+V11+W11 -> 0 | AB11: =Y11+Z11+AA11 -> 0 | AC11: =SUM(P11,T11,X11,AB11) -> 0 | AH11: =AD11+AE11+AF11+AG11 -> 0
D12: Personnel | E12: Example | H12: Senior expert | L12: =I12*J12*K12 -> 0 | P12: =M12+N12+O12 -> 0 | T12: =Q12+R12+S12 -> 0 | X12: =U12+V12+W12 -> 0 | AB12: =Y12+Z12+AA12 -> 0 | AC12: =SUM(P12,T12,X12,AB12) -> 0 | AH12: =AD12+AE12+AF12+AG12 -> 0
D13: Personnel | E13: Example | H13: Admin assistant | L13: =I13*J13*K13 -> 0 | P13: =M13+N13+O13 -> 0 | T13: =Q13+R13+S13 -> 0 | X13: =U13+V13+W13 -> 0 | AB13: =Y13+Z13+AA13 -> 0 | AC13: =SUM(P13,T13,X13,AB13) -> 0 | AH13: =AD13+AE13+AF13+AG13 -> 0
D14: Travel domestic | E14: Example | L14: =I14*J14*K14 -> 0 | P14: =M14+N14+O14 -> 0 | T14: =Q14+R14+S14 -> 0 | X14: =U14+V14+W14 -> 0 | AB14: =Y14+Z14+AA14 -> 0 | AC14: =SUM(P14,T14,X14,AB14) -> 0 | AH14: =AD14+AE14+AF14+AG14 -> 0
D15: Travel international | E15: Example | L15: =I15*J15*K15 -> 0 | P15: =M15+N15+O15 -> 0 | T15: =Q15+R15+S15 -> 0 | X15: =U15+V15+W15 -> 0 | AB15: =Y15+Z15+AA15 -> 0 | AC15: =SUM(P15,T15,X15,AB15) -> 0 | AH15: =AD15+AE15+AF15+AG15 -> 0
D16: Accommodation and subsistence | E16: Example | L16: =I16*J16*K16 -> 0 | P16: =M16+N16+O16 -> 0 | T16: =Q16+R16+S16 -> 0 | X16: =U16+V16+W16 -> 0 | AB16: =Y16+Z16+AA16 -> 0 | AC16: =SUM(P16,T16,X16,AB16) -> 0 | AH16: =AD16+AE16+AF16+AG16 -> 0
D17: Workshop/Event | E17: Example | L17: =I17*J17*K17 -> 0 | P17: =M17+N17+O17 -> 0 | T17: =Q17+R17+S17 -> 0 | X17: =U17+V17+W17 -> 0 | AB17: =Y17+Z17+AA17 -> 0 | AC17: =SUM(P17,T17,X17,AB17) -> 0 | AH17: =AD17+AE17+AF17+AG17 -> 0
D18: Translation and interpretation | E18: Example | L18: =I18*J18*K18 -> 0 | P18: =M18+N18+O18 -> 0 | T18: =Q18+R18+S18 -> 0 | X18: =U18+V18+W18 -> 0 | AB18: =Y18+Z18+AA18 -> 0 | AC18: =SUM(P18,T18,X18,AB18) -> 0 | AH18: =AD18+AE18+AF18+AG18 -> 0
D19: Print fees | E19: Example | L19: =I19*J19*K19 -> 0 | P19: =M19+N19+O19 -> 0 | T19: =Q19+R19+S19 -> 0 | X19: =U19+V19+W19 -> 0 | AB19: =Y19+Z19+AA19 -> 0 | AC19: =SUM(P19,T19,X19,AB19) -> 0 | AH19: =AD19+AE19+AF19+AG19 -> 0
D20: Other | E20: Example | L20: =I20*J20*K20 -> 0 | P20: =M20+N20+O20 -> 0 | T20: =Q20+R20+S20 -> 0 | X20: =U20+V20+W20 -> 0 | AB20: =Y20+Z20+AA20 -> 0 | AC20: =SUM(P20,T20,X20,AB20) -> 0 | AH20: =AD20+AE20+AF20+AG20 -> 0
D21: Other | E21: Example | L21: =I21*J21*K21 -> 0 | P21: =M21+N21+O21 -> 0 | T21: =Q21+R21+S21 -> 0 | X21: =U21+V21+W21 -> 0 | AB21: =Y21+Z21+AA21 -> 0 | AC21: =SUM(P21,T21,X21,AB21) -> 0 | AH21: =AD21+AE21+AF21+AG21 -> 0
L22: =I22*J22*K22 -> 0 | P22: =M22+N22+O22 -> 0 | T22: =Q22+R22+S22 -> 0 | X22: =U22+V22+W22 -> 0 | AB22: =Y22+Z22+AA22 -> 0 | AC22: =SUM(P22,T22,X22,AB22) -> 0 | AH22: =AD22+AE22+AF22+AG22 -> 0
L23: =I23*J23*K23 -> 0 | P23: =M23+N23+O23 -> 0 | T23: =Q23+R23+S23 -> 0 | X23: =U23+V23+W23 -> 0 | AB23: =Y23+Z23+AA23 -> 0 | AC23: =SUM(P23,T23,X23,AB23) -> 0 | AH23: =AD23+AE23+AF23+AG23 -> 0
L24: =I24*J24*K24 -> 0 | P24: =M24+N24+O24 -> 0 | T24: =Q24+R24+S24 -> 0 | X24: =U24+V24+W24 -> 0 | AB24: =Y24+Z24+AA24 -> 0 | AC24: =SUM(P24,T24,X24,AB24) -> 0 | AH24: =AD24+AE24+AF24+AG24 -> 0
L25: =I25*J25*K25 -> 0 | P25: =M25+N25+O25 -> 0 | T25: =Q25+R25+S25 -> 0 | X25: =U25+V25+W25 -> 0 | AB25: =Y25+Z25+AA25 -> 0 | AC25: =SUM(P25,T25,X25,AB25) -> 0 | AH25: =AD25+AE25+AF25+AG25 -> 0
L26: =I26*J26*K26 -> 0 | P26: =M26+N26+O26 -> 0 | T26: =Q26+R26+S26 -> 0 | X26: =U26+V26+W26 -> 0 | AB26: =Y26+Z26+AA26 -> 0 | AC26: =SUM(P26,T26,X26,AB26) -> 0 | AH26: =AD26+AE26+AF26+AG26 -> 0
L27: =I27*J27*K27 -> 0 | P27: =M27+N27+O27 -> 0 | T27: =Q27+R27+S27 -> 0 | X27: =U27+V27+W27 -> 0 | AB27: =Y27+Z27+AA27 -> 0 | AC27: =SUM(P27,T27,X27,AB27) -> 0 | AH27: =AD27+AE27+AF27+AG27 -> 0
L28: =I28*J28*K28 -> 0 | P28: =M28+N28+O28 -> 0 | T28: =Q28+R28+S28 -> 0 | X28: =U28+V28+W28 -> 0 | AB28: =Y28+Z28+AA28 -> 0 | AC28: =SUM(P28,T28,X28,AB28) -> 0 | AH28: =AD28+AE28+AF28+AG28 -> 0
L29: =I29*J29*K29 -> 0 | P29: =M29+N29+O29 -> 0 | T29: =Q29+R29+S29 -> 0 | X29: =U29+V29+W29 -> 0 | AB29: =Y29+Z29+AA29 -> 0 | AC29: =SUM(P29,T29,X29,AB29) -> 0 | AH29: =AD29+AE29+AF29+AG29 -> 0
L30: =I30*J30*K30 -> 0 | P30: =M30+N30+O30 -> 0 | T30: =Q30+R30+S30 -> 0 | X30: =U30+V30+W30 -> 0 | AB30: =Y30+Z30+AA30 -> 0 | AC30: =SUM(P30,T30,X30,AB30) -> 0 | AH30: =AD30+AE30+AF30+AG30 -> 0
L31: =I31*J31*K31 -> 0 | P31: =M31+N31+O31 -> 0 | T31: =Q31+R31+S31 -> 0 | X31: =U31+V31+W31 -> 0 | AB31: =Y31+Z31+AA31 -> 0 | AC31: =SUM(P31,T31,X31,AB31) -> 0 | AH31: =AD31+AE31+AF31+AG31 -> 0
L32: =I32*J32*K32 -> 0 | P32: =M32+N32+O32 -> 0 | T32: =Q32+R32+S32 -> 0 | X32: =U32+V32+W32 -> 0 | AB32: =Y32+Z32+AA32 -> 0 | AC32: =SUM(P32,T32,X32,AB32) -> 0 | AH32: =AD32+AE32+AF32+AG32 -> 0
L33: =I33*J33*K33 -> 0 | P33: =M33+N33+O33 -> 0 | T33: =Q33+R33+S33 -> 0 | X33: =U33+V33+W33 -> 0 | AB33: =Y33+Z33+AA33 -> 0 | AC33: =SUM(P33,T33,X33,AB33) -> 0 | AH33: =AD33+AE33+AF33+AG33 -> 0
... L35: =I35*J35*K35 -> 0 | P35: =M35+N35+O35 -> 0 | T35: =Q35+R35+S35 -> 0 | X35: =U35+V35+W35 -> 0 | AB35: =Y35+Z35+AA35 -> 0 | AC35: =SUM(P35,T35,X35,AB35) -> 0 | AH35: =AD35+AE35+AF35+AG35 -> 0
D36: Personnel Subtotal | L36: =SUMIF($D8:$D35,"Personnel",L8:L35) -> 0 | M36: =SUMIF($D8:$D35,"Personnel",M8:M35) -> 0 | N36: =SUMIF($D8:$D35,"Personnel",N8:N35) -> 0 | O36: =SUMIF($D8:$D35,"Personnel",O8:O35) -> 0 | P36: =M36+N36+O36 -> 0 | Q36: =SUMIF($D8:$D35,"Personnel",Q8:Q35) -> 0 | R36: =SUMIF($D8:$D35,"Personnel",R8:R35) -> 0 | S36: =SUMIF($D8:$D35,"Personnel",S8:S35) -> 0 | T36: =Q36+R36+S36 -> 0 | U36: =SUMIF($D8:$D35,"Personnel",U8:U35) -> 0 | V36: =SUMIF($D8:$D35,"Personnel",V8:V35) -> 0 | W36: =SUMIF($D8:$D35,"Personnel",W8:W35) -> 0 | X36: =U36+V36+W36 -> 0 | Y36: =SUMIF($D8:$D35,"Personnel",Y8:Y35) -> 0 | Z36: =SUMIF($D8:$D35,"Personnel",Z8:Z35) -> 0 | AA36: =SUMIF($D8:$D35,"Personnel",AA8:AA35) -> 0 | AB36: =Y36+Z36+AA36 -> 0 | AC36: =SUM(P36,T36,X36,AB36) -> 0 | AD36: =SUMIF($D8:$D35,"Personnel",AD8:AD35) -> 0 | AE36: =SUMIF($D8:$D35,"Personnel",AE8:AE35) -> 0 | AF36: =SUMIF($D8:$D35,"Personnel",AF8:AF35) -> 0 | AG36: =SUMIF($D8:$D35,"Personnel",AG8:AG35) -> 0 | AH36: =AD36+AE36+AF36+AG36 -> 0
D37: Subtotal | L37: =SUM(L8:L35) -> 0 | M37: =SUM(M8:M35) -> 0 | N37: =SUM(N8:N35) -> 0 | O37: =SUM(O8:O35) -> 0 | P37: =M37+N37+O37 -> 0 | Q37: =SUM(Q8:Q35) -> 0 | R37: =SUM(R8:R35) -> 0 | S37: =SUM(S8:S35) -> 0 | T37: =Q37+R37+S37 -> 0 | U37: =SUM(U8:U35) -> 0 | V37: =SUM(V8:V35) -> 0 | W37: =SUM(W8:W35) -> 0 | X37: =U37+V37+W37 -> 0 | Y37: =SUM(Y8:Y35) -> 0 | Z37: =SUM(Z8:Z35) -> 0 | AA37: =SUM(AA8:AA35) -> 0 | AB37: =Y37+Z37+AA37 -> 0 | AC37: =SUM(P37,T37,X37,AB37) -> 0 | AD37: =SUM(AD8:AD35) -> 0 | AE37: =SUM(AE8:AE35) -> 0 | AF37: =SUM(AF8:AF35) -> 0 | AG37: =SUM(AG8:AG35) -> 0 | AH37: =AD37+AE37+AF37+AG37 -> 0
B38: Output 2. | L38: =I38*J38*K38 -> 0 | P38: =M38+N38+O38 -> 0 | T38: =Q38+R38+S38 -> 0 | X38: =U38+V38+W38 -> 0 | AB38: =Y38+Z38+AA38 -> 0 | AC38: =SUM(P38,T38,X38,AB38) -> 0 | AH38: =AD38+AE38+AF38+AG38 -> 0
L39: =I39*J39*K39 -> 0 | P39: =M39+N39+O39 -> 0 | T39: =Q39+R39+S39 -> 0 | X39: =U39+V39+W39 -> 0 | AB39: =Y39+Z39+AA39 -> 0 | AC39: =SUM(P39,T39,X39,AB39) -> 0 | AH39: =AD39+AE39+AF39+AG39 -> 0
L40: =I40*J40*K40 -> 0 | P40: =M40+N40+O40 -> 0 | T40: =Q40+R40+S40 -> 0 | X40: =U40+V40+W40 -> 0 | AB40: =Y40+Z40+AA40 -> 0 | AC40: =SUM(P40,T40,X40,AB40) -> 0 | AH40: =AD40+AE40+AF40+AG40 -> 0
L41: =I41*J41*K41 -> 0 | P41: =M41+N41+O41 -> 0 | T41: =Q41+R41+S41 -> 0 | X41: =U41+V41+W41 -> 0 | AB41: =Y41+Z41+AA41 -> 0 | AC41: =SUM(P41,T41,X41,AB41) -> 0 | AH41: =AD41+AE41+AF41+AG41 -> 0
L42: =I42*J42*K42 -> 0 | P42: =M42+N42+O42 -> 0 | T42: =Q42+R42+S42 -> 0 | X42: =U42+V42+W42 -> 0 | AB42: =Y42+Z42+AA42 -> 0 | AC42: =SUM(P42,T42,X42,AB42) -> 0 | AH42: =AD42+AE42+AF42+AG42 -> 0
L43: =I43*J43*K43 -> 0 | P43: =M43+N43+O43 -> 0 | T43: =Q43+R43+S43 -> 0 | X43: =U43+V43+W43 -> 0 | AB43: =Y43+Z43+AA43 -> 0 | AC43: =SUM(P43,T43,X43,AB43) -> 0 | AH43: =AD43+AE43+AF43+AG43 -> 0
L44: =I44*J44*K44 -> 0 | P44: =M44+N44+O44 -> 0 | T44: =Q44+R44+S44 -> 0 | X44: =U44+V44+W44 -> 0 | AB44: =Y44+Z44+AA44 -> 0 | AC44: =SUM(P44,T44,X44,AB44) -> 0 | AH44: =AD44+AE44+AF44+AG44 -> 0
...

Sheet Milestones
B2: Milestones | H2: Milestone Schedule FY 26/27 | M2: Milestone Schedule FY 27/28
B3: # | C3: Milestone description | D3: List of deliverables | E3: Activity No. | F3: Output | G3: % | H3: Value | I3: Q1 | J3: Q2 | K3: Q3 | L3: Q4 | M3: Q1 | N3: Q2 | O3: Q3 | P3: Q4
C4: Example | D4: Example | E4: 1.1 | F4: 1 | G4: 0.2 | H4: =G4*'Budget Sheet'!$AC$176 -> 0 | I4: =H4 -> 0 | Q4: =H4=SUM(I4:L4) -> TRUE
H5: =G5*'Budget Sheet'!$AC$176 -> 0 | Q5: =H5=SUM(I5:L5) -> TRUE
H6: =G6*'Budget Sheet'!$AC$176 -> 0 | Q6: =H6=SUM(I6:L6) -> TRUE
H7: =G7*'Budget Sheet'!$AC$176 -> 0 | Q7: =H7=SUM(I7:L7) -> TRUE
H8: =G8*'Budget Sheet'!$AC$176 -> 0 | Q8: =H8=SUM(I8:L8) -> TRUE
H9: =G9*'Budget Sheet'!$AC$176 -> 0 | Q9: =H9=SUM(I9:L9) -> TRUE
H10: =G10*'Budget Sheet'!$AC$176 -> 0 | Q10: =H10=SUM(I10:L10) -> TRUE
H11: =G11*'Budget Sheet'!$AC$176 -> 0 | Q11: =H11=SUM(I11:L11) -> TRUE
H12: =G12*'Budget Sheet'!$AC$176 -> 0 | Q12: =H12=SUM(I12:L12) -> TRUE
H13: =G13*'Budget Sheet'!$AC$176 -> 0 | Q13: =H13=SUM(I13:L13) -> TRUE
H14: =G14*'Budget Sheet'!$AC$176 -> 0 | Q14: =H14=SUM(I14:L14) -> TRUE
H15: =G15*'Budget Sheet'!$AC$176 -> 0 | Q15: =H15=SUM(I15:L15) -> TRUE
H16: =G16*'Budget Sheet'!$AC$176 -> 0 | Q16: =H16=SUM(I16:L16) -> TRUE
... H22: =G22*'Budget Sheet'!$AC$176 -> 0 | Q22: =H22=SUM(I22:L22) -> TRUE
B23: Total | G23: =SUM(G4:G22) -> 0.2 | H23: =SUM(H4:H22) -> 0 | I23: =SUM(I4:I22) -> 0 | J23: =SUM(J4:J22) -> 0 | K23: =SUM(K4:K22) -> 0 | L23: =SUM(L4:L22) -> 0 | M23: =SUM(M4:M22) -> 0 | N23: =SUM(N4:N22) -> 0 | ... P23: =SUM(P4:P22) -> 0 | Q23: =H23=SUM(I23:L23) -> TRUE
G24: =G23=100% -> FALSE

Sheet Other- justification
B2: Budget Justification of "Other" expenses
A4: Every expense listed in the Budget Sheet as "Other", must be described and justifed here.
A7: Output Number | B7: Cost Category | C7: Cost description | D7: Total cost | E7: Type of evidence to be supplied | F7: Justification Why is this cost necessary? How does this cost contribute to the proposed outputs?
A8: 1 | B8: Other
A9: 3 | B9: Other
A10: 3 | B10: Other
A11: 4 | B11: Other
A12: Please add more as necessary

Sheet Staff list
C2: Staff list
B4: Name Name and surname of person | C4: Sub-Category Role of personnel on project | D4: Day Rate in Local Currency The cost to the organisation to emply that individual for one day | E4: Number of Days Total days the employee will work on the project across all outputs | F4: Organisation Which consortium member the individual will be employed by | G4: Location Where the person is based | H4: Employment Type The contract type under which the individual is employed by the organisation
B30: Please add more rows as necessary

Sheet Inputs Budget Summary
B2: Budget Summary
B3: This tab will autopopulate based on the budget sheet and staff list
F5: Financial Year 2024/2025 | J5: Financial Year 2026/2027 | P5: Financial Year 2027/2028 | V5: Overall
B6: Category | C6: # of people | D6: # of days | F6: Q3 | G6: Q4 | H6: Total | J6: Q1 | K6: Q2 | L6: Q3 | M6: Q4 | N6: Total | P6: Q1 | Q6: Q2 | R6: Q3 | S6: Q4 | T6: Total | V6: Total
B7: Principal expert | C7: =COUNTIF('Staff list'!$C:$C,'Inputs Budget Summary'!B7) -> 0 | D7: =SUMIF('Staff list'!$C:$C,'Inputs Budget Summary'!B7,'Staff list'!$E:$E) -> 0 | F7: =SUMIF('Budget Sheet'!$H:$H,'Inputs Budget Summary'!$B7,'Budget Sheet'!#REF!) -> #REF! | G7: =SUMIF('Budget Sheet'!$H:$H,'Inputs Budget Summary'!$B7,'Budget Sheet'!#REF!) -> #REF! | H7: =SUM(F7:G7) -> #REF! | J7: =SUMIF('Budget Sheet'!$H:$H,'Inputs Budget Summary'!$B7,'Budget Sheet'!P:P) -> 0 | K7: =SUMIF('Budget Sheet'!$H:$H,'Inputs Budget Summary'!$B7,'Budget Sheet'!T:T) -> 0 | L7: =SUMIF('Budget Sheet'!$H:$H,'Inputs Budget Summary'!$B7,'Budget Sheet'!X:X) -> 0 | M7: =SUMIF('Budget Sheet'!$H:$H,'Inputs Budget Summary'!$B7,'Budget Sheet'!AB:AB) -> 0 | N7: =SUM(J7:M7) -> 0 | P7: =SUMIF('Budget Sheet'!$H:$H,'Inputs Budget Summary'!$B7,'Budget Sheet'!AD:AD) -> 0 | Q7: =SUMIF('Budget Sheet'!$H:$H,'Inputs Budget Summary'!$B7,'Budget Sheet'!AE:AE) -> 0 | R7: =SUMIF('Budget Sheet'!$H:$H,'Inputs Budget Summary'!$B7,'Budget Sheet'!AF:AF) -> 0 | S7: =SUMIF('Budget Sheet'!$H:$H,'Inputs Budget Summary'!$B7,'Budget Sheet'!AG:AG) -> 0 | T7: =SUM(P7:S7) -> 0 | V7: =SUM(N7,T7) -> 0
B8: Senior expert | C8: =COUNTIF('Staff list'!$C:$C,'Inputs Budget Summary'!B8) -> 0 | D8: =SUMIF('Staff list'!$C:$C,'Inputs Budget Summary'!B8,'Staff list'!$E:$E) -> 0 | F8: =SUMIF('Budget Sheet'!$H:$H,'Inputs Budget Summary'!$B8,'Budget Sheet'!#REF!) -> #REF! | G8: =SUMIF('Budget Sheet'!$H:$H,'Inputs Budget Summary'!$B8,'Budget Sheet'!#REF!) -> #REF! | H8: =SUM(F8:G8) -> #REF! | J8: =SUMIF('Budget Sheet'!$H:$H,'Inputs Budget Summary'!$B8,'Budget Sheet'!P:P) -> 0 | K8: =SUMIF('Budget Sheet'!$H:$H,'Inputs Budget Summary'!$B8,'Budget Sheet'!T:T) -> 0 | L8: =SUMIF('Budget Sheet'!$H:$H,'Inputs Budget Summary'!$B8,'Budget Sheet'!X:X) -> 0 | M8: =SUMIF('Budget Sheet'!$H:$H,'Inputs Budget Summary'!$B8,'Budget Sheet'!AB:AB) -> 0 | N8: =SUM(J8:M8) -> 0 | P8: =SUMIF('Budget Sheet'!$H:$H,'Inputs Budget Summary'!$B8,'Budget Sheet'!AD:AD) -> 0 | Q8: =SUMIF('Budget Sheet'!$H:$H,'Inputs Budget Summary'!$B8,'Budget Sheet'!AE:AE) -> 0 | R8: =SUMIF('Budget Sheet'!$H:$H,'Inputs Budget Summary'!$B8,'Budget Sheet'!AF:AF) -> 0 | S8: =SUMIF('Budget Sheet'!$H:$H,'Inputs Budget Summary'!$B8,'Budget Sheet'!AG:AG) -> 0 | T8: =SUM(P8:S8) -> 0 | V8: =SUM(N8,T8) -> 0
B9: Expert | C9: =COUNTIF('Staff list'!$C:$C,'Inputs Budget Summary'!B9) -> 0 | D9: =SUMIF('Staff list'!$C:$C,'Inputs Budget Summary'!B9,'Staff list'!$E:$E) -> 0 | F9: =SUMIF('Budget Sheet'!$H:$H,'Inputs Budget Summary'!$B9,'Budget Sheet'!#REF!) -> #REF! | G9: =SUMIF('Budget Sheet'!$H:$H,'Inputs Budget Summary'!$B9,'Budget Sheet'!#REF!) -> #REF! | H9: =SUM(F9:G9) -> #REF! | J9: =SUMIF('Budget Sheet'!$H:$H,'Inputs Budget Summary'!$B9,'Budget Sheet'!P:P) -> 0 | K9: =SUMIF('Budget Sheet'!$H:$H,'Inputs Budget Summary'!$B9,'Budget Sheet'!T:T) -> 0 | L9: =SUMIF('Budget Sheet'!$H:$H,'Inputs Budget Summary'!$B9,'Budget Sheet'!X:X) -> 0 | M9: =SUMIF('Budget Sheet'!$H:$H,'Inputs Budget Summary'!$B9,'Budget Sheet'!AB:AB) -> 0 | N9: =SUM(J9:M9) -> 0 | P9: =SUMIF('Budget Sheet'!$H:$H,'Inputs Budget Summary'!$B9,'Budget Sheet'!AD:AD) -> 0 | Q9: =SUMIF('Budget Sheet'!$H:$H,'Inputs Budget Summary'!$B9,'Budget Sheet'!AE:AE) -> 0 | R9: =SUMIF('Budget Sheet'!$H:$H,'Inputs Budget Summary'!$B9,'Budget Sheet'!AF:AF) -> 0 | S9: =SUMIF('Budget Sheet'!$H:$H,'Inputs Budget Summary'!$B9,'Budget Sheet'!AG:AG) -> 0 | T9: =SUM(P9:S9) -> 0 | V9: =SUM(N9,T9) -> 0
B10: Junior expert | C10: =COUNTIF('Staff list'!$C:$C,'Inputs Budget Summary'!B10) -> 0 | D10: =SUMIF('Staff list'!$C:$C,'Inputs Budget Summary'!B10,'Staff list'!$E:$E) -> 0 | F10: =SUMIF('Budget Sheet'!$H:$H,'Inputs Budget Summary'!$B10,'Budget Sheet'!#REF!) -> #REF! | G10: =SUMIF('Budget Sheet'!$H:$H,'Inputs Budget Summary'!$B10,'Budget Sheet'!#REF!) -> #REF! | H10: =SUM(F10:G10) -> #REF! | J10: =SUMIF('Budget Sheet'!$H:$H,'Inputs Budget Summary'!$B10,'Budget Sheet'!P:P) -> 0 | K10: =SUMIF('Budget Sheet'!$H:$H,'Inputs Budget Summary'!$B10,'Budget Sheet'!T:T) -> 0 | L10: =SUMIF('Budget Sheet'!$H:$H,'Inputs Budget Summary'!$B10,'Budget Sheet'!X:X) -> 0 | M10: =SUMIF('Budget Sheet'!$H:$H,'Inputs Budget Summary'!$B10,'Budget Sheet'!AB:AB) -> 0 | N10: =SUM(J10:M10) -> 0 | P10: =SUMIF('Budget Sheet'!$H:$H,'Inputs Budget Summary'!$B10,'Budget Sheet'!AD:AD) -> 0 | Q10: =SUMIF('Budget Sheet'!$H:$H,'Inputs Budget Summary'!$B10,'Budget Sheet'!AE:AE) -> 0 | R10: =SUMIF('Budget Sheet'!$H:$H,'Inputs Budget Summary'!$B10,'Budget Sheet'!AF:AF) -> 0 | S10: =SUMIF('Budget Sheet'!$H:$H,'Inputs Budget Summary'!$B10,'Budget Sheet'!AG:AG) -> 0 | T10: =SUM(P10:S10) -> 0 | V10: =SUM(N10,T10) -> 0
B11: Assistant to expert | C11: =COUNTIF('Staff list'!$C:$C,'Inputs Budget Summary'!B11) -> 0 | D11: =SUMIF('Staff list'!$C:$C,'Inputs Budget Summary'!B11,'Staff list'!$E:$E) -> 0 | F11: =SUMIF('Budget Sheet'!$H:$H,'Inputs Budget Summary'!$B11,'Budget Sheet'!#REF!) -> #REF! | G11: =SUMIF('Budget Sheet'!$H:$H,'Inputs Budget Summary'!$B11,'Budget Sheet'!#REF!) -> #REF! | H11: =SUM(F11:G11) -> #REF! | J11: =SUMIF('Budget Sheet'!$H:$H,'Inputs Budget Summary'!$B11,'Budget Sheet'!P:P) -> 0 | K11: =SUMIF('Budget Sheet'!$H:$H,'Inputs Budget Summary'!$B11,'Budget Sheet'!T:T) -> 0 | L11: =SUMIF('Budget Sheet'!$H:$H,'Inputs Budget Summary'!$B11,'Budget Sheet'!X:X) -> 0 | M11: =SUMIF('Budget Sheet'!$H:$H,'Inputs Budget Summary'!$B11,'Budget Sheet'!AB:AB) -> 0 | N11: =SUM(J11:M11) -> 0 | P11: =SUMIF('Budget Sheet'!$H:$H,'Inputs Budget Summary'!$B11,'Budget Sheet'!AD:AD) -> 0 | Q11: =SUMIF('Budget Sheet'!$H:$H,'Inputs Budget Summary'!$B11,'Budget Sheet'!AE:AE) -> 0 | R11: =SUMIF('Budget Sheet'!$H:$H,'Inputs Budget Summary'!$B11,'Budget Sheet'!AF:AF) -> 0 | S11: =SUMIF('Budget Sheet'!$H:$H,'Inputs Budget Summary'!$B11,'Budget Sheet'!AG:AG) -> 0 | T11: =SUM(P11:S11) -> 0 | V11: =SUM(N11,T11) -> 0
B12: Project manager | C12: =COUNTIF('Staff list'!$C:$C,'Inputs Budget Summary'!B12) -> 0 | D12: =SUMIF('Staff list'!$C:$C,'Inputs Budget Summary'!B12,'Staff list'!$E:$E) -> 0 | F12: =SUMIF('Budget Sheet'!$H:$H,'Inputs Budget Summary'!$B12,'Budget Sheet'!#REF!) -> #REF! | G12: =SUMIF('Budget Sheet'!$H:$H,'Inputs Budget Summary'!$B12,'Budget Sheet'!#REF!) -> #REF! | H12: =SUM(F12:G12) -> #REF! | J12: =SUMIF('Budget Sheet'!$H:$H,'Inputs Budget Summary'!$B12,'Budget Sheet'!P:P) -> 0 | K12: =SUMIF('Budget Sheet'!$H:$H,'Inputs Budget Summary'!$B12,'Budget Sheet'!T:T) -> 0 | L12: =SUMIF('Budget Sheet'!$H:$H,'Inputs Budget Summary'!$B12,'Budget Sheet'!X:X) -> 0 | M12: =SUMIF('Budget Sheet'!$H:$H,'Inputs Budget Summary'!$B12,'Budget Sheet'!AB:AB) -> 0 | N12: =SUM(J12:M12) -> 0 | P12: =SUMIF('Budget Sheet'!$H:$H,'Inputs Budget Summary'!$B12,'Budget Sheet'!AD:AD) -> 0 | Q12: =SUMIF('Budget Sheet'!$H:$H,'Inputs Budget Summary'!$B12,'Budget Sheet'!AE:AE) -> 0 | R12: =SUMIF('Budget Sheet'!$H:$H,'Inputs Budget Summary'!$B12,'Budget Sheet'!AF:AF) -> 0 | S12: =SUMIF('Budget Sheet'!$H:$H,'Inputs Budget Summary'!$B12,'Budget Sheet'!AG:AG) -> 0 | T12: =SUM(P12:S12) -> 0 | V12: =SUM(N12,T12) -> 0
B13: Support Staff | C13: =COUNTIF('Staff list'!$C:$C,'Inputs Budget Summary'!B13) -> 0 | D13: =SUMIF('Staff list'!$C:$C,'Inputs Budget Summary'!B13,'Staff list'!$E:$E) -> 0 | F13: =SUMIF('Budget Sheet'!$H:$H,'Inputs Budget Summary'!$B13,'Budget Sheet'!#REF!) -> #REF! | G13: =SUMIF('Budget Sheet'!$H:$H,'Inputs Budget Summary'!$B13,'Budget Sheet'!#REF!) -> #REF! | H13: =SUM(F13:G13) -> #REF! | J13: =SUMIF('Budget Sheet'!$H:$H,'Inputs Budget Summary'!$B13,'Budget Sheet'!P:P) -> 0 | K13: =SUMIF('Budget Sheet'!$H:$H,'Inputs Budget Summary'!$B13,'Budget Sheet'!T:T) -> 0 | L13: =SUMIF('Budget Sheet'!$H:$H,'Inputs Budget Summary'!$B13,'Budget Sheet'!X:X) -> 0 | M13: =SUMIF('Budget Sheet'!$H:$H,'Inputs Budget Summary'!$B13,'Budget Sheet'!AB:AB) -> 0 | N13: =SUM(J13:M13) -> 0 | P13: =SUMIF('Budget Sheet'!$H:$H,'Inputs Budget Summary'!$B13,'Budget Sheet'!AD:AD) -> 0 | Q13: =SUMIF('Budget Sheet'!$H:$H,'Inputs Budget Summary'!$B13,'Budget Sheet'!AE:AE) -> 0 | R13: =SUMIF('Budget Sheet'!$H:$H,'Inputs Budget Summary'!$B13,'Budget Sheet'!AF:AF) -> 0 | S13: =SUMIF('Budget Sheet'!$H:$H,'Inputs Budget Summary'!$B13,'Budget Sheet'!AG:AG) -> 0 | T13: =SUM(P13:S13) -> 0 | V13: =SUM(N13,T13) -> 0
B14: Admin assistant | C14: =COUNTIF('Staff list'!$C:$C,'Inputs Budget Summary'!B14) -> 0 | D14: =SUMIF('Staff list'!$C:$C,'Inputs Budget Summary'!B14,'Staff list'!$E:$E) -> 0 | F14: =SUMIF('Budget Sheet'!$H:$H,'Inputs Budget Summary'!$B14,'Budget Sheet'!#REF!) -> #REF! | G14: =SUMIF('Budget Sheet'!$H:$H,'Inputs Budget Summary'!$B14,'Budget Sheet'!#REF!) -> #REF! | H14: =SUM(F14:G14) -> #REF! | J14: =SUMIF('Budget Sheet'!$H:$H,'Inputs Budget Summary'!$B14,'Budget Sheet'!P:P) -> 0 | K14: =SUMIF('Budget Sheet'!$H:$H,'Inputs Budget Summary'!$B14,'Budget Sheet'!T:T) -> 0 | L14: =SUMIF('Budget Sheet'!$H:$H,'Inputs Budget Summary'!$B14,'Budget Sheet'!X:X) -> 0 | M14: =SUMIF('Budget Sheet'!$H:$H,'Inputs Budget Summary'!$B14,'Budget Sheet'!AB:AB) -> 0 | N14: =SUM(J14:M14) -> 0 | P14: =SUMIF('Budget Sheet'!$H:$H,'Inputs Budget Summary'!$B14,'Budget Sheet'!AD:AD) -> 0 | Q14: =SUMIF('Budget Sheet'!$H:$H,'Inputs Budget Summary'!$B14,'Budget Sheet'!AE:AE) -> 0 | R14: =SUMIF('Budget Sheet'!$H:$H,'Inputs Budget Summary'!$B14,'Budget Sheet'!AF:AF) -> 0 | S14: =SUMIF('Budget Sheet'!$H:$H,'Inputs Budget Summary'!$B14,'Budget Sheet'!AG:AG) -> 0 | T14: =SUM(P14:S14) -> 0 | V14: =SUM(N14,T14) -> 0
C15: Personnel Total | F15: =SUM(F7:F14) -> #REF! | G15: =SUM(G7:G14) -> #REF! | H15: =SUM(H7:H14) -> #REF! | J15: =SUM(J7:J14) -> 0 | K15: =SUM(K7:K14) -> 0 | L15: =SUM(L7:L14) -> 0 | M15: =SUM(M7:M14) -> 0 | N15: =SUM(N7:N14) -> 0 | P15: =SUM(P7:P14) -> 0 | Q15: =SUM(Q7:Q14) -> 0 | R15: =SUM(R7:R14) -> 0 | S15: =SUM(S7:S14) -> 0 | T15: =SUM(T7:T14) -> 0 | V15: =SUM(V7:V14) -> 0
B16: Travel domestic | F16: =SUMIF('Budget Sheet'!$D:$D,'Inputs Budget Summary'!$B16,'Budget Sheet'!#REF!) -> #REF! | G16: =SUMIF('Budget Sheet'!$D:$D,'Inputs Budget Summary'!$B16,'Budget Sheet'!#REF!) -> #REF! | H16: =SUM(F16:G16) -> #REF! | J16: =SUMIF('Budget Sheet'!$D:$D,'Inputs Budget Summary'!$B16,'Budget Sheet'!P:P) -> 0 | K16: =SUMIF('Budget Sheet'!$D:$D,'Inputs Budget Summary'!$B16,'Budget Sheet'!T:T) -> 0 | L16: =SUMIF('Budget Sheet'!$D:$D,'Inputs Budget Summary'!$B16,'Budget Sheet'!X:X) -> 0 | M16: =SUMIF('Budget Sheet'!$D:$D,'Inputs Budget Summary'!$B16,'Budget Sheet'!AB:AB) -> 0 | N16: =SUM(J16:M16) -> 0 | P16: =SUMIF('Budget Sheet'!$D:$D,'Inputs Budget Summary'!$B16,'Budget Sheet'!AD:AD) -> 0 | Q16: =SUMIF('Budget Sheet'!$D:$D,'Inputs Budget Summary'!$B16,'Budget Sheet'!AE:AE) -> 0 | R16: =SUMIF('Budget Sheet'!$D:$D,'Inputs Budget Summary'!$B16,'Budget Sheet'!AF:AF) -> 0 | S16: =SUMIF('Budget Sheet'!$D:$D,'Inputs Budget Summary'!$B16,'Budget Sheet'!AG:AG) -> 0 | T16: =SUM(P16:S16) -> 0 | V16: =SUM(N16,T16) -> 0
B17: Travel international | F17: =SUMIF('Budget Sheet'!$D:$D,'Inputs Budget Summary'!$B17,'Budget Sheet'!#REF!) -> #REF! | G17: =SUMIF('Budget Sheet'!$D:$D,'Inputs Budget Summary'!$B17,'Budget Sheet'!#REF!) -> #REF! | H17: =SUM(F17:G17) -> #REF! | J17: =SUMIF('Budget Sheet'!$D:$D,'Inputs Budget Summary'!$B17,'Budget Sheet'!P:P) -> 0 | K17: =SUMIF('Budget Sheet'!$D:$D,'Inputs Budget Summary'!$B17,'Budget Sheet'!T:T) -> 0 | L17: =SUMIF('Budget Sheet'!$D:$D,'Inputs Budget Summary'!$B17,'Budget Sheet'!X:X) -> 0 | M17: =SUMIF('Budget Sheet'!$D:$D,'Inputs Budget Summary'!$B17,'Budget Sheet'!AB:AB) -> 0 | N17: =SUM(J17:M17) -> 0 | P17: =SUMIF('Budget Sheet'!$D:$D,'Inputs Budget Summary'!$B17,'Budget Sheet'!AD:AD) -> 0 | Q17: =SUMIF('Budget Sheet'!$D:$D,'Inputs Budget Summary'!$B17,'Budget Sheet'!AE:AE) -> 0 | R17: =SUMIF('Budget Sheet'!$D:$D,'Inputs Budget Summary'!$B17,'Budget Sheet'!AF:AF) -> 0 | S17: =SUMIF('Budget Sheet'!$D:$D,'Inputs Budget Summary'!$B17,'Budget Sheet'!AG:AG) -> 0 | T17: =SUM(P17:S17) -> 0 | V17: =SUM(N17,T17) -> 0
B18: Accommodation and subsistence | F18: =SUMIF('Budget Sheet'!$D:$D,'Inputs Budget Summary'!$B18,'Budget Sheet'!#REF!) -> #REF! | G18: =SUMIF('Budget Sheet'!$D:$D,'Inputs Budget Summary'!$B18,'Budget Sheet'!#REF!) -> #REF! | H18: =SUM(F18:G18) -> #REF! | J18: =SUMIF('Budget Sheet'!$D:$D,'Inputs Budget Summary'!$B18,'Budget Sheet'!P:P) -> 0 | K18: =SUMIF('Budget Sheet'!$D:$D,'Inputs Budget Summary'!$B18,'Budget Sheet'!T:T) -> 0 | L18: =SUMIF('Budget Sheet'!$D:$D,'Inputs Budget Summary'!$B18,'Budget Sheet'!X:X) -> 0 | M18: =SUMIF('Budget Sheet'!$D:$D,'Inputs Budget Summary'!$B18,'Budget Sheet'!AB:AB) -> 0 | N18: =SUM(J18:M18) -> 0 | P18: =SUMIF('Budget Sheet'!$D:$D,'Inputs Budget Summary'!$B18,'Budget Sheet'!AD:AD) -> 0 | Q18: =SUMIF('Budget Sheet'!$D:$D,'Inputs Budget Summary'!$B18,'Budget Sheet'!AE:AE) -> 0 | R18: =SUMIF('Budget Sheet'!$D:$D,'Inputs Budget Summary'!$B18,'Budget Sheet'!AF:AF) -> 0 | S18: =SUMIF('Budget Sheet'!$D:$D,'Inputs Budget Summary'!$B18,'Budget Sheet'!AG:AG) -> 0 | T18: =SUM(P18:S18) -> 0 | V18: =SUM(N18,T18) -> 0
B19: Workshop/Event | F19: =SUMIF('Budget Sheet'!$D:$D,'Inputs Budget Summary'!$B19,'Budget Sheet'!#REF!) -> #REF! | G19: =SUMIF('Budget Sheet'!$D:$D,'Inputs Budget Summary'!$B19,'Budget Sheet'!#REF!) -> #REF! | H19: =SUM(F19:G19) -> #REF! | J19: =SUMIF('Budget Sheet'!$D:$D,'Inputs Budget Summary'!$B19,'Budget Sheet'!P:P) -> 0 | K19: =SUMIF('Budget Sheet'!$D:$D,'Inputs Budget Summary'!$B19,'Budget Sheet'!T:T) -> 0 | L19: =SUMIF('Budget Sheet'!$D:$D,'Inputs Budget Summary'!$B19,'Budget Sheet'!X:X) -> 0 | M19: =SUMIF('Budget Sheet'!$D:$D,'Inputs Budget Summary'!$B19,'Budget Sheet'!AB:AB) -> 0 | N19: =SUM(J19:M19) -> 0 | P19: =SUMIF('Budget Sheet'!$D:$D,'Inputs Budget Summary'!$B19,'Budget Sheet'!AD:AD) -> 0 | Q19: =SUMIF('Budget Sheet'!$D:$D,'Inputs Budget Summary'!$B19,'Budget Sheet'!AE:AE) -> 0 | R19: =SUMIF('Budget Sheet'!$D:$D,'Inputs Budget Summary'!$B19,'Budget Sheet'!AF:AF) -> 0 | S19: =SUMIF('Budget Sheet'!$D:$D,'Inputs Budget Summary'!$B19,'Budget Sheet'!AG:AG) -> 0 | T19: =SUM(P19:S19) -> 0 | V19: =SUM(N19,T19) -> 0
B20: Translation and interpretation | F20: =SUMIF('Budget Sheet'!$D:$D,'Inputs Budget Summary'!$B20,'Budget Sheet'!#REF!) -> #REF! | G20: =SUMIF('Budget Sheet'!$D:$D,'Inputs Budget Summary'!$B20,'Budget Sheet'!#REF!) -> #REF! | H20: =SUM(F20:G20) -> #REF! | J20: =SUMIF('Budget Sheet'!$D:$D,'Inputs Budget Summary'!$B20,'Budget Sheet'!P:P) -> 0 | K20: =SUMIF('Budget Sheet'!$D:$D,'Inputs Budget Summary'!$B20,'Budget Sheet'!T:T) -> 0 | L20: =SUMIF('Budget Sheet'!$D:$D,'Inputs Budget Summary'!$B20,'Budget Sheet'!X:X) -> 0 | M20: =SUMIF('Budget Sheet'!$D:$D,'Inputs Budget Summary'!$B20,'Budget Sheet'!AB:AB) -> 0 | N20: =SUM(J20:M20) -> 0 | P20: =SUMIF('Budget Sheet'!$D:$D,'Inputs Budget Summary'!$B20,'Budget Sheet'!AD:AD) -> 0 | Q20: =SUMIF('Budget Sheet'!$D:$D,'Inputs Budget Summary'!$B20,'Budget Sheet'!AE:AE) -> 0 | R20: =SUMIF('Budget Sheet'!$D:$D,'Inputs Budget Summary'!$B20,'Budget Sheet'!AF:AF) -> 0 | S20: =SUMIF('Budget Sheet'!$D:$D,'Inputs Budget Summary'!$B20,'Budget Sheet'!AG:AG) -> 0 | T20: =SUM(P20:S20) -> 0 | V20: =SUM(N20,T20) -> 0
B21: Print fees | F21: =SUMIF('Budget Sheet'!$D:$D,'Inputs Budget Summary'!$B21,'Budget Sheet'!#REF!) -> #REF! | G21: =SUMIF('Budget Sheet'!$D:$D,'Inputs Budget Summary'!$B21,'Budget Sheet'!#REF!) -> #REF! | H21: =SUM(F21:G21) -> #REF! | J21: =SUMIF('Budget Sheet'!$D:$D,'Inputs Budget Summary'!$B21,'Budget Sheet'!P:P) -> 0 | K21: =SUMIF('Budget Sheet'!$D:$D,'Inputs Budget Summary'!$B21,'Budget Sheet'!T:T) -> 0 | L21: =SUMIF('Budget Sheet'!$D:$D,'Inputs Budget Summary'!$B21,'Budget Sheet'!X:X) -> 0 | M21: =SUMIF('Budget Sheet'!$D:$D,'Inputs Budget Summary'!$B21,'Budget Sheet'!AB:AB) -> 0 | N21: =SUM(J21:M21) -> 0 | P21: =SUMIF('Budget Sheet'!$D:$D,'Inputs Budget Summary'!$B21,'Budget Sheet'!AD:AD) -> 0 | Q21: =SUMIF('Budget Sheet'!$D:$D,'Inputs Budget Summary'!$B21,'Budget Sheet'!AE:AE) -> 0 | R21: =SUMIF('Budget Sheet'!$D:$D,'Inputs Budget Summary'!$B21,'Budget Sheet'!AF:AF) -> 0 | S21: =SUMIF('Budget Sheet'!$D:$D,'Inputs Budget Summary'!$B21,'Budget Sheet'!AG:AG) -> 0 | T21: =SUM(P21:S21) -> 0 | V21: =SUM(N21,T21) -> 0
B22: Other | F22: =SUMIF('Budget Sheet'!$D:$D,'Inputs Budget Summary'!$B22,'Budget Sheet'!#REF!) -> #REF! | G22: =SUMIF('Budget Sheet'!$D:$D,'Inputs Budget Summary'!$B22,'Budget Sheet'!#REF!) -> #REF! | H22: =SUM(F22:G22) -> #REF! | J22: =SUMIF('Budget Sheet'!$D:$D,'Inputs Budget Summary'!$B22,'Budget Sheet'!P:P) -> 0 | K22: =SUMIF('Budget Sheet'!$D:$D,'Inputs Budget Summary'!$B22,'Budget Sheet'!T:T) -> 0 | L22: =SUMIF('Budget Sheet'!$D:$D,'Inputs Budget Summary'!$B22,'Budget Sheet'!X:X) -> 0 | M22: =SUMIF('Budget Sheet'!$D:$D,'Inputs Budget Summary'!$B22,'Budget Sheet'!AB:AB) -> 0 | N22: =SUM(J22:M22) -> 0 | P22: =SUMIF('Budget Sheet'!$D:$D,'Inputs Budget Summary'!$B22,'Budget Sheet'!AD:AD) -> 0 | Q22: =SUMIF('Budget Sheet'!$D:$D,'Inputs Budget Summary'!$B22,'Budget Sheet'!AE:AE) -> 0 | R22: =SUMIF('Budget Sheet'!$D:$D,'Inputs Budget Summary'!$B22,'Budget Sheet'!AF:AF) -> 0 | S22: =SUMIF('Budget Sheet'!$D:$D,'Inputs Budget Summary'!$B22,'Budget Sheet'!AG:AG) -> 0 | T22: =SUM(P22:S22) -> 0 | V22: =SUM(N22,T22) -> 0
B23: =V15+V23 -> 0 | C23: Reimbursable Total | F23: =SUM(F16:F22) -> #REF! | G23: =SUM(G16:G22) -> #REF! | H23: =SUM(F23:G23) -> #REF! | J23: =SUM(J16:J22) -> 0 | K23: =SUM(K16:K22) -> 0 | L23: =SUM(L16:L22) -> 0 | M23: =SUM(M16:M22) -> 0 | N23: =SUM(J23:M23) -> 0 | P23: =SUM(P16:P22) -> 0 | Q23: =SUM(Q16:Q22) -> 0 | R23: =SUM(R16:R22) -> 0 | S23: =SUM(S16:S22) -> 0 | T23: =SUM(P23:S23) -> 0 | V23: =SUM(V16:V22) -> 0
C24: Grand total | F24: =F15+F23+#REF! -> #REF! | G24: =G15+G23+#REF! -> #REF! | H24: =SUM(F24:G24) -> #REF! | J24: =J15+J23 -> 0 | K24: =K15+K23 -> 0 | L24: =L15+L23 -> 0 | M24: =M15+M23 -> 0 | N24: =SUM(J24:M24) -> 0 | P24: =P15+P23 -> 0 | Q24: =Q15+Q23 -> 0 | R24: =R15+R23 -> 0 | S24: =S15+S23 -> 0 | T24: =SUM(P24:S24) -> 0 | V24: =V15+V23 -> 0

Sheet Milestone Budget Summary
B2: Budget Summary
B3: This tab will autopopulate based on the budget sheet and staff list
F5: Financial Year 2024/2025 | J5: Financial Year 2026/2027 | P5: Financial Year 2027/2028 | V5: Overall
B6: Category | F6: Q3 | G6: Q4 | H6: Total | J6: Q1 | K6: Q2 | L6: Q3 | M6: Q4 | N6: Total | P6: Q1 | Q6: Q2 | R6: Q3 | S6: Q4 | T6: Total | V6: Total
B7: Milestone Schedule | F7: =SUMIF('Budget Sheet'!$H:$H,'Inputs Budget Summary'!$B7,'Budget Sheet'!#REF!) -> #REF! | G7: =SUMIF('Budget Sheet'!$H:$H,'Inputs Budget Summary'!$B7,'Budget Sheet'!#REF!) -> #REF! | H7: =SUM(F7:G7) -> #REF! | J7: =Milestones!I23 -> 0 | K7: =Milestones!J23 -> 0 | L7: =Milestones!K23 -> 0 | M7: =Milestones!L23 -> 0 | N7: =SUM(J7:M7) -> 0 | P7: =Milestones!M23 -> 0 | Q7: =Milestones!N23 -> 0 | R7: =Milestones!O23 -> 0 | S7: =Milestones!P23 -> 0 | T7: =SUM(P7:S7) -> 0 | V7: =SUM(R7:U7) -> 0
C8: Milestone Total | F8: =SUM(F7:F7) -> #REF! | G8: =SUM(G7:G7) -> #REF! | H8: =SUM(H7:H7) -> #REF! | J8: =SUM(J7:J7) -> 0 | K8: =SUM(K7:K7) -> 0 | L8: =SUM(L7:L7) -> 0 | M8: =SUM(M7:M7) -> 0 | N8: =SUM(N7:N7) -> 0 | P8: =SUM(P7:P7) -> 0 | Q8: =SUM(Q7:Q7) -> 0 | R8: =SUM(R7:R7) -> 0 | S8: =SUM(S7:S7) -> 0 | T8: =SUM(T7:T7) -> 0 | V8: =SUM(V7:V7) -> 0
B9: Travel domestic | F9: =SUMIF('Budget Sheet'!$D:$D,'Inputs Budget Summary'!$B16,'Budget Sheet'!#REF!) -> #REF! | G9: =SUMIF('Budget Sheet'!$D:$D,'Inputs Budget Summary'!$B16,'Budget Sheet'!#REF!) -> #REF! | H9: =SUM(F9:G9) -> #REF! | J9: =SUMIF('Budget Sheet'!$D:$D,$B9,'Budget Sheet'!P:P) -> 0 | K9: =SUMIF('Budget Sheet'!$D:$D,$B9,'Budget Sheet'!T:T) -> 0 | L9: =SUMIF('Budget Sheet'!$D:$D,$B9,'Budget Sheet'!X:X) -> 0 | M9: =SUMIF('Budget Sheet'!$D:$D,$B9,'Budget Sheet'!AB:AB) -> 0 | N9: =SUM(J9:M9) -> 0 | P9: =SUMIF('Budget Sheet'!$D:$D,B9,'Budget Sheet'!AD:AD) -> 0 | Q9: =SUMIF('Budget Sheet'!$D:$D,$B9,'Budget Sheet'!AE:AE) -> 0 | R9: =SUMIF('Budget Sheet'!$D:$D,$B9,'Budget Sheet'!AF:AF) -> 0 | S9: =SUMIF('Budget Sheet'!$D:$D,$B9,'Budget Sheet'!AG:AG) -> 0 | T9: =SUM(P9:S9) -> 0 | V9: =SUM(N9,T9) -> 0
B10: Travel international | F10: =SUMIF('Budget Sheet'!$D:$D,'Inputs Budget Summary'!$B17,'Budget Sheet'!#REF!) -> #REF! | G10: =SUMIF('Budget Sheet'!$D:$D,'Inputs Budget Summary'!$B17,'Budget Sheet'!#REF!) -> #REF! | H10: =SUM(F10:G10) -> #REF! | J10: =SUMIF('Budget Sheet'!$D:$D,$B10,'Budget Sheet'!P:P) -> 0 | K10: =SUMIF('Budget Sheet'!$D:$D,$B10,'Budget Sheet'!T:T) -> 0 | L10: =SUMIF('Budget Sheet'!$D:$D,$B10,'Budget Sheet'!X:X) -> 0 | M10: =SUMIF('Budget Sheet'!$D:$D,$B10,'Budget Sheet'!AB:AB) -> 0 | N10: =SUM(J10:M10) -> 0 | P10: =SUMIF('Budget Sheet'!$D:$D,'Inputs Budget Summary'!$B17,'Budget Sheet'!AD:AD) -> 0 | Q10: =SUMIF('Budget Sheet'!$D:$D,'Inputs Budget Summary'!$B17,'Budget Sheet'!AE:AE) -> 0 | R10: =SUMIF('Budget Sheet'!$D:$D,'Inputs Budget Summary'!$B17,'Budget Sheet'!AF:AF) -> 0 | S10: =SUMIF('Budget Sheet'!$D:$D,'Inputs Budget Summary'!$B17,'Budget Sheet'!AG:AG) -> 0 | T10: =SUM(P10:S10) -> 0 | V10: =SUM(N10,T10) -> 0
B11: Accommodation and subsistence | F11: =SUMIF('Budget Sheet'!$D:$D,'Inputs Budget Summary'!$B18,'Budget Sheet'!#REF!) -> #REF! | G11: =SUMIF('Budget Sheet'!$D:$D,'Inputs Budget Summary'!$B18,'Budget Sheet'!#REF!) -> #REF! | H11: =SUM(F11:G11) -> #REF! | J11: =SUMIF('Budget Sheet'!$D:$D,$B11,'Budget Sheet'!P:P) -> 0 | K11: =SUMIF('Budget Sheet'!$D:$D,$B11,'Budget Sheet'!T:T) -> 0 | L11: =SUMIF('Budget Sheet'!$D:$D,$B11,'Budget Sheet'!X:X) -> 0 | M11: =SUMIF('Budget Sheet'!$D:$D,$B11,'Budget Sheet'!AB:AB) -> 0 | N11: =SUM(J11:M11) -> 0 | P11: =SUMIF('Budget Sheet'!$D:$D,'Inputs Budget Summary'!$B18,'Budget Sheet'!AD:AD) -> 0 | Q11: =SUMIF('Budget Sheet'!$D:$D,'Inputs Budget Summary'!$B18,'Budget Sheet'!AE:AE) -> 0 | R11: =SUMIF('Budget Sheet'!$D:$D,'Inputs Budget Summary'!$B18,'Budget Sheet'!AF:AF) -> 0 | S11: =SUMIF('Budget Sheet'!$D:$D,'Inputs Budget Summary'!$B18,'Budget Sheet'!AG:AG) -> 0 | T11: =SUM(P11:S11) -> 0 | V11: =SUM(N11,T11) -> 0
B12: Workshop/Event | F12: =SUMIF('Budget Sheet'!$D:$D,'Inputs Budget Summary'!$B19,'Budget Sheet'!#REF!) -> #REF! | G12: =SUMIF('Budget Sheet'!$D:$D,'Inputs Budget Summary'!$B19,'Budget Sheet'!#REF!) -> #REF! | H12: =SUM(F12:G12) -> #REF! | J12: =SUMIF('Budget Sheet'!$D:$D,$B12,'Budget Sheet'!P:P) -> 0 | K12: =SUMIF('Budget Sheet'!$D:$D,$B12,'Budget Sheet'!T:T) -> 0 | L12: =SUMIF('Budget Sheet'!$D:$D,$B12,'Budget Sheet'!X:X) -> 0 | M12: =SUMIF('Budget Sheet'!$D:$D,$B12,'Budget Sheet'!AB:AB) -> 0 | N12: =SUM(J12:M12) -> 0 | P12: =SUMIF('Budget Sheet'!$D:$D,'Inputs Budget Summary'!$B19,'Budget Sheet'!AD:AD) -> 0 | Q12: =SUMIF('Budget Sheet'!$D:$D,'Inputs Budget Summary'!$B19,'Budget Sheet'!AE:AE) -> 0 | R12: =SUMIF('Budget Sheet'!$D:$D,'Inputs Budget Summary'!$B19,'Budget Sheet'!AF:AF) -> 0 | S12: =SUMIF('Budget Sheet'!$D:$D,'Inputs Budget Summary'!$B19,'Budget Sheet'!AG:AG) -> 0 | T12: =SUM(P12:S12) -> 0 | V12: =SUM(N12,T12) -> 0
B13: Translation and interpretation | F13: =SUMIF('Budget Sheet'!$D:$D,'Inputs Budget Summary'!$B20,'Budget Sheet'!#REF!) -> #REF! | G13: =SUMIF('Budget Sheet'!$D:$D,'Inputs Budget Summary'!$B20,'Budget Sheet'!#REF!) -> #REF! | H13: =SUM(F13:G13) -> #REF! | J13: =SUMIF('Budget Sheet'!$D:$D,$B13,'Budget Sheet'!P:P) -> 0 | K13: =SUMIF('Budget Sheet'!$D:$D,$B13,'Budget Sheet'!T:T) -> 0 | L13: =SUMIF('Budget Sheet'!$D:$D,$B13,'Budget Sheet'!X:X) -> 0 | M13: =SUMIF('Budget Sheet'!$D:$D,$B13,'Budget Sheet'!AB:AB) -> 0 | N13: =SUM(J13:M13) -> 0 | P13: =SUMIF('Budget Sheet'!$D:$D,'Inputs Budget Summary'!$B20,'Budget Sheet'!AD:AD) -> 0 | Q13: =SUMIF('Budget Sheet'!$D:$D,'Inputs Budget Summary'!$B20,'Budget Sheet'!AE:AE) -> 0 | R13: =SUMIF('Budget Sheet'!$D:$D,'Inputs Budget Summary'!$B20,'Budget Sheet'!AF:AF) -> 0 | S13: =SUMIF('Budget Sheet'!$D:$D,'Inputs Budget Summary'!$B20,'Budget Sheet'!AG:AG) -> 0 | T13: =SUM(P13:S13) -> 0 | V13: =SUM(N13,T13) -> 0
B14: Print fees | F14: =SUMIF('Budget Sheet'!$D:$D,'Inputs Budget Summary'!$B21,'Budget Sheet'!#REF!) -> #REF! | G14: =SUMIF('Budget Sheet'!$D:$D,'Inputs Budget Summary'!$B21,'Budget Sheet'!#REF!) -> #REF! | H14: =SUM(F14:G14) -> #REF! | J14: =SUMIF('Budget Sheet'!$D:$D,$B14,'Budget Sheet'!P:P) -> 0 | K14: =SUMIF('Budget Sheet'!$D:$D,$B14,'Budget Sheet'!T:T) -> 0 | L14: =SUMIF('Budget Sheet'!$D:$D,$B14,'Budget Sheet'!X:X) -> 0 | M14: =SUMIF('Budget Sheet'!$D:$D,$B14,'Budget Sheet'!AB:AB) -> 0 | N14: =SUM(J14:M14) -> 0 | P14: =SUMIF('Budget Sheet'!$D:$D,'Inputs Budget Summary'!$B21,'Budget Sheet'!AD:AD) -> 0 | Q14: =SUMIF('Budget Sheet'!$D:$D,'Inputs Budget Summary'!$B21,'Budget Sheet'!AE:AE) -> 0 | R14: =SUMIF('Budget Sheet'!$D:$D,'Inputs Budget Summary'!$B21,'Budget Sheet'!AF:AF) -> 0 | S14: =SUMIF('Budget Sheet'!$D:$D,'Inputs Budget Summary'!$B21,'Budget Sheet'!AG:AG) -> 0 | T14: =SUM(P14:S14) -> 0 | V14: =SUM(N14,T14) -> 0
B15: Other | F15: =SUMIF('Budget Sheet'!$D:$D,'Inputs Budget Summary'!$B22,'Budget Sheet'!#REF!) -> #REF! | G15: =SUMIF('Budget Sheet'!$D:$D,'Inputs Budget Summary'!$B22,'Budget Sheet'!#REF!) -> #REF! | H15: =SUM(F15:G15) -> #REF! | J15: =SUMIF('Budget Sheet'!$D:$D,$B15,'Budget Sheet'!P:P) -> 0 | K15: =SUMIF('Budget Sheet'!$D:$D,$B15,'Budget Sheet'!T:T) -> 0 | L15: =SUMIF('Budget Sheet'!$D:$D,$B15,'Budget Sheet'!X:X) -> 0 | M15: =SUMIF('Budget Sheet'!$D:$D,$B15,'Budget Sheet'!AB:AB) -> 0 | N15: =SUM(J15:M15) -> 0 | P15: =SUMIF('Budget Sheet'!$D:$D,'Inputs Budget Summary'!$B22,'Budget Sheet'!AD:AD) -> 0 | Q15: =SUMIF('Budget Sheet'!$D:$D,'Inputs Budget Summary'!$B22,'Budget Sheet'!AE:AE) -> 0 | R15: =SUMIF('Budget Sheet'!$D:$D,'Inputs Budget Summary'!$B22,'Budget Sheet'!AF:AF) -> 0 | S15: =SUMIF('Budget Sheet'!$D:$D,'Inputs Budget Summary'!$B22,'Budget Sheet'!AG:AG) -> 0 | T15: =SUM(P15:S15) -> 0 | V15: =SUM(N15,T15) -> 0
B16: =V8+V16 -> 0 | C16: Reimbursable Total | F16: =SUM(F9:F15) -> #REF! | G16: =SUM(G9:G15) -> #REF! | H16: =SUM(F16:G16) -> #REF! | J16: =SUM(J9:J15) -> 0 | K16: =SUM(K9:K15) -> 0 | L16: =SUM(L9:L15) -> 0 | M16: =SUM(M9:M15) -> 0 | N16: =SUM(J16:M16) -> 0 | P16: =SUM(P9:P15) -> 0 | Q16: =SUM(Q9:Q15) -> 0 | R16: =SUM(R9:R15) -> 0 | S16: =SUM(S9:S15) -> 0 | T16: =SUM(P16:S16) -> 0 | V16: =SUM(V9:V15) -> 0
C17: Grand total | F17: =F8+F16+#REF! -> #REF! | G17: =G8+G16+#REF! -> #REF! | H17: =SUM(F17:G17) -> #REF! | J17: =J8+J16 -> 0 | K17: =K8+K16 -> 0 | L17: =L8+L16 -> 0 | M17: =M8+M16 -> 0 | N17: =SUM(J17:M17) -> 0 | P17: =P8+P16 -> 0 | Q17: =Q8+Q16 -> 0 | R17: =R8+R16 -> 0 | S17: =S8+S16 -> 0 | T17: =SUM(P17:S17) -> 0 | V17: =V8+V16 -> 0
